BEGIN:VCALENDAR
VERSION:2.0
PRODID:-//Rhode Island Land Trust Council - ECPv6.15.19//NONSGML v1.0//EN
CALSCALE:GREGORIAN
METHOD:PUBLISH
X-WR-CALNAME:Rhode Island Land Trust Council
X-ORIGINAL-URL:https://rilandtrusts.org
X-WR-CALDESC:Events for Rhode Island Land Trust Council
REFRESH-INTERVAL;VALUE=DURATION:PT1H
X-Robots-Tag:noindex
X-PUBLISHED-TTL:PT1H
BEGIN:VTIMEZONE
TZID:America/New_York
BEGIN:DAYLIGHT
TZOFFSETFROM:-0500
TZOFFSETTO:-0400
TZNAME:EDT
DTSTART:20220313T070000
END:DAYLIGHT
BEGIN:STANDARD
TZOFFSETFROM:-0400
TZOFFSETTO:-0500
TZNAME:EST
DTSTART:20221106T060000
END:STANDARD
BEGIN:DAYLIGHT
TZOFFSETFROM:-0500
TZOFFSETTO:-0400
TZNAME:EDT
DTSTART:20230312T070000
END:DAYLIGHT
BEGIN:STANDARD
TZOFFSETFROM:-0400
TZOFFSETTO:-0500
TZNAME:EST
DTSTART:20231105T060000
END:STANDARD
BEGIN:DAYLIGHT
TZOFFSETFROM:-0500
TZOFFSETTO:-0400
TZNAME:EDT
DTSTART:20240310T070000
END:DAYLIGHT
BEGIN:STANDARD
TZOFFSETFROM:-0400
TZOFFSETTO:-0500
TZNAME:EST
DTSTART:20241103T060000
END:STANDARD
END:VTIMEZONE
BEGIN:VEVENT
DTSTART;TZID=America/New_York:20230321T183000
DTEND;TZID=America/New_York:20230321T193000
DTSTAMP:20260420T223302
CREATED:20230308T161208Z
LAST-MODIFIED:20230308T161208Z
UID:4036-1679423400-1679427000@rilandtrusts.org
SUMMARY:Public Health and Environmental Justice
DESCRIPTION:
URL:https://rilandtrusts.org/event/public-health-and-environmental-justice/
LOCATION:Online
CATEGORIES:Webinars
END:VEVENT
BEGIN:VEVENT
DTSTART;TZID=America/New_York:20230321T140000
DTEND;TZID=America/New_York:20230321T153000
DTSTAMP:20260420T223302
CREATED:20230223T034043Z
LAST-MODIFIED:20230223T203427Z
UID:3750-1679407200-1679412600@rilandtrusts.org
SUMMARY:Orienting New Landowners to Their Easements
DESCRIPTION:
URL:https://rilandtrusts.org/event/orienting-new-landowners-to-their-easements/
LOCATION:Online
CATEGORIES:Webinars
END:VEVENT
BEGIN:VEVENT
DTSTART;TZID=America/New_York:20230318T163000
DTEND;TZID=America/New_York:20230318T183000
DTSTAMP:20260420T223302
CREATED:20230316T165352Z
LAST-MODIFIED:20230316T165352Z
UID:4049-1679157000-1679164200@rilandtrusts.org
SUMMARY:Farmers’ Soup Supper & Farm Wildlife Talk
DESCRIPTION:
URL:https://rilandtrusts.org/event/farmers-soup-supper-farm-wildlife-talk/
LOCATION:Barrington Congregational Church\, 461 County Road\, Barrington\, RI
CATEGORIES:Workshops & Presentations
END:VEVENT
BEGIN:VEVENT
DTSTART;TZID=America/New_York:20230317T083000
DTEND;TZID=America/New_York:20230317T093000
DTSTAMP:20260420T223302
CREATED:20230316T165548Z
LAST-MODIFIED:20230316T165548Z
UID:4052-1679041800-1679045400@rilandtrusts.org
SUMMARY:Fresh Fridays with ONE Neighborhood Builders: Shared Equity Housing
DESCRIPTION:
URL:https://rilandtrusts.org/event/fresh-fridays-with-one-neighborhood-builders-shared-equity-housing/
LOCATION:Online
CATEGORIES:Webinars
END:VEVENT
BEGIN:VEVENT
DTSTART;TZID=America/New_York:20230315T173000
DTEND;TZID=America/New_York:20230315T193000
DTSTAMP:20260420T223302
CREATED:20230224T003935Z
LAST-MODIFIED:20230223T203454Z
UID:3801-1678901400-1678908600@rilandtrusts.org
SUMMARY:RI Land Trust Council Annual Meeting
DESCRIPTION:Our Annual Meeting will be held via Zoom. To register\, please contact Virginia Streeter at vstreeter@rilandtrusts.org or call 508.317.4717. Come learn about our programs\, services and plans for the future!
URL:https://rilandtrusts.org/event/ri-land-trust-council-annual-meeting/
LOCATION:Online
CATEGORIES:RILTC Events
END:VEVENT
BEGIN:VEVENT
DTSTART;TZID=America/New_York:20230315T100000
DTEND;TZID=America/New_York:20230315T120000
DTSTAMP:20260420T223302
CREATED:20230306T154310Z
LAST-MODIFIED:20230306T154310Z
UID:3959-1678874400-1678881600@rilandtrusts.org
SUMMARY:Funding Water Quality Restoration and Climate Resilience Projects in Rhode Island
DESCRIPTION:
URL:https://rilandtrusts.org/event/funding-water-quality-restoration-and-climate-resilience-projects-in-rhode-island/
LOCATION:Online
CATEGORIES:Webinars
END:VEVENT
BEGIN:VEVENT
DTSTART;TZID=America/New_York:20230314T183000
DTEND;TZID=America/New_York:20230314T193000
DTSTAMP:20260420T223302
CREATED:20230306T154610Z
LAST-MODIFIED:20230306T154610Z
UID:3961-1678818600-1678822200@rilandtrusts.org
SUMMARY:Land\, Food\, and Climate Change
DESCRIPTION:
URL:https://rilandtrusts.org/event/land-food-and-climate-change/
LOCATION:Online
CATEGORIES:Webinars
END:VEVENT
BEGIN:VEVENT
DTSTART;TZID=America/New_York:20230314T160000
DTEND;TZID=America/New_York:20230314T173000
DTSTAMP:20260420T223302
CREATED:20230306T142444Z
LAST-MODIFIED:20230306T142444Z
UID:3942-1678809600-1678815000@rilandtrusts.org
SUMMARY:2023 RI Food System Summit Breakout Session: Local Food for Local Kids
DESCRIPTION:
URL:https://rilandtrusts.org/event/2023-ri-food-system-summit-breakout-session-local-food-for-local-kids/
LOCATION:Farm Fresh Rhode Island\, 10 Sims Ave.\, Providence\, RI\, 02909
CATEGORIES:Conferences
END:VEVENT
BEGIN:VEVENT
DTSTART;TZID=America/New_York:20230314T140000
DTEND;TZID=America/New_York:20230314T153000
DTSTAMP:20260420T223302
CREATED:20230306T142544Z
LAST-MODIFIED:20230306T142544Z
UID:3944-1678802400-1678807800@rilandtrusts.org
SUMMARY:2023 RI Food System Summit Breakout Session: Preserving & Growing Agriculture & Seafood Industries
DESCRIPTION:
URL:https://rilandtrusts.org/event/2023-ri-food-system-summit-breakout-session-preserving-growing-agriculture-seafood-industries/
LOCATION:Farm Fresh Rhode Island\, 10 Sims Ave.\, Providence\, RI\, 02909
CATEGORIES:Conferences
END:VEVENT
BEGIN:VEVENT
DTSTART;TZID=America/New_York:20230314T140000
DTEND;TZID=America/New_York:20230314T153000
DTSTAMP:20260420T223302
CREATED:20230223T022812Z
LAST-MODIFIED:20230223T203517Z
UID:3739-1678802400-1678807800@rilandtrusts.org
SUMMARY:Title Review: What Land Trusts Need to Know
DESCRIPTION:
URL:https://rilandtrusts.org/event/title-review-what-land-trusts-need-to-know/
LOCATION:Online
CATEGORIES:Webinars
END:VEVENT
BEGIN:VEVENT
DTSTART;TZID=America/New_York:20230314T090000
DTEND;TZID=America/New_York:20230314T120000
DTSTAMP:20260420T223302
CREATED:20230222T210816Z
LAST-MODIFIED:20230223T203539Z
UID:3682-1678784400-1678795200@rilandtrusts.org
SUMMARY:Using ArcGIS Online
DESCRIPTION:
URL:https://rilandtrusts.org/event/using-arcgis-online/
LOCATION:URI Woodward Hall\, 9 E Alumni Ave\, Kingston\, RI\, 02881
CATEGORIES:In-person Trainings
END:VEVENT
BEGIN:VEVENT
DTSTART;TZID=America/New_York:20230313T173000
DTEND;TZID=America/New_York:20230313T183000
DTSTAMP:20260420T223302
CREATED:20230224T003714Z
LAST-MODIFIED:20230223T203606Z
UID:3799-1678728600-1678732200@rilandtrusts.org
SUMMARY:Forest Health and the Southern Pine Beetle
DESCRIPTION:
URL:https://rilandtrusts.org/event/forest-health-and-the-southern-pine-beetle/
LOCATION:Online
CATEGORIES:Webinars
END:VEVENT
BEGIN:VEVENT
DTSTART;TZID=America/New_York:20230312T140000
DTEND;TZID=America/New_York:20230312T160000
DTSTAMP:20260420T223302
CREATED:20230227T231232Z
LAST-MODIFIED:20230227T231232Z
UID:3915-1678629600-1678636800@rilandtrusts.org
SUMMARY:Art\, Climate Crisis\, and Activism
DESCRIPTION:
URL:https://rilandtrusts.org/event/art-climate-crisis-and-activism/
LOCATION:RISD Museum\, 20 N Main St.\, Providence\, RI\, 02903
CATEGORIES:Workshops & Presentations
END:VEVENT
BEGIN:VEVENT
DTSTART;TZID=America/New_York:20230309T140000
DTEND;TZID=America/New_York:20230309T153000
DTSTAMP:20260420T223302
CREATED:20230223T022459Z
LAST-MODIFIED:20230223T203623Z
UID:3735-1678370400-1678375800@rilandtrusts.org
SUMMARY:Appraisal Basics for Land Trusts
DESCRIPTION:
URL:https://rilandtrusts.org/event/appraisal-basics-for-land-trusts/
LOCATION:Online
CATEGORIES:Webinars
END:VEVENT
BEGIN:VEVENT
DTSTART;TZID=America/New_York:20230308T100000
DTEND;TZID=America/New_York:20230308T113000
DTSTAMP:20260420T223302
CREATED:20230224T003416Z
LAST-MODIFIED:20230223T203653Z
UID:3797-1678269600-1678275000@rilandtrusts.org
SUMMARY:Creating Access in Nonprofits: Disability Rights under ADA and 504
DESCRIPTION:
URL:https://rilandtrusts.org/event/creating-access-in-nonprofits-disability-rights-under-ada-and-504/
LOCATION:Online
CATEGORIES:Webinars
END:VEVENT
BEGIN:VEVENT
DTSTART;TZID=America/New_York:20230308T090000
DTEND;TZID=America/New_York:20230308T150000
DTSTAMP:20260420T223302
CREATED:20230223T021016Z
LAST-MODIFIED:20230223T203710Z
UID:3732-1678266000-1678287600@rilandtrusts.org
SUMMARY:2023 RI Compost Conference & Trade Show
DESCRIPTION:
URL:https://rilandtrusts.org/event/2023-ri-compost-conference-trade-show/
LOCATION:Rhode Island College Donovan Dining Center\, 600 Mt Pleasant Ave\, Providence\, RI\, 02911
CATEGORIES:Conferences
END:VEVENT
BEGIN:VEVENT
DTSTART;TZID=America/New_York:20230307T080000
DTEND;TZID=America/New_York:20230307T163000
DTSTAMP:20260420T223302
CREATED:20230223T020741Z
LAST-MODIFIED:20230223T203733Z
UID:3729-1678176000-1678206600@rilandtrusts.org
SUMMARY:2023 Rhode Island Women in Agriculture Conference
DESCRIPTION:
URL:https://rilandtrusts.org/event/2023-rhode-island-women-in-agriculture-conference/
LOCATION:Crowne Plaza Providence-Warwick\, 801 Greenwich Avenue\, Warwick\, RI\, 02886
CATEGORIES:Conferences
END:VEVENT
BEGIN:VEVENT
DTSTART;TZID=America/New_York:20230304T080000
DTEND;TZID=America/New_York:20230304T120000
DTSTAMP:20260420T223302
CREATED:20230223T014118Z
LAST-MODIFIED:20230223T203823Z
UID:3724-1677916800-1677931200@rilandtrusts.org
SUMMARY:RIEEA Annual Summit
DESCRIPTION:
URL:https://rilandtrusts.org/event/rieea-annual-summit/
LOCATION:Rhode Island College Donovan Dining Center\, 600 Mt Pleasant Ave\, Providence\, RI\, 02911
CATEGORIES:Conferences
END:VEVENT
BEGIN:VEVENT
DTSTART;TZID=America/New_York:20230302T160000
DTEND;TZID=America/New_York:20230302T170000
DTSTAMP:20260420T223302
CREATED:20230224T003302Z
LAST-MODIFIED:20230223T203845Z
UID:3795-1677772800-1677776400@rilandtrusts.org
SUMMARY:Conservation and Housing in Collaboration: Opportunities and Challenges
DESCRIPTION:
URL:https://rilandtrusts.org/event/conservation-and-housing-in-collaboration-opportunities-and-challenges/
LOCATION:Online
CATEGORIES:Webinars
END:VEVENT
BEGIN:VEVENT
DTSTART;TZID=America/New_York:20230228T183000
DTEND;TZID=America/New_York:20230228T203000
DTSTAMP:20260420T223302
CREATED:20230227T232109Z
LAST-MODIFIED:20230227T232109Z
UID:3918-1677609000-1677616200@rilandtrusts.org
SUMMARY:A Forest Journey - Twig Travels
DESCRIPTION:
URL:https://rilandtrusts.org/event/a-forest-journey-twig-travels/
LOCATION:Bristol Parks & Recreation Center\, 101 Asylum Road\, Bristol\, RI\, 02809
CATEGORIES:Workshops & Presentations
END:VEVENT
BEGIN:VEVENT
DTSTART;TZID=America/New_York:20230228T120000
DTEND;TZID=America/New_York:20230228T130000
DTSTAMP:20260420T223302
CREATED:20230223T205610Z
LAST-MODIFIED:20230223T205610Z
UID:3822-1677585600-1677589200@rilandtrusts.org
SUMMARY:The Geographic Approach to Invasive Species Management
DESCRIPTION:
URL:https://rilandtrusts.org/event/the-geographic-approach-to-invasive-species-management/
LOCATION:Online
CATEGORIES:Webinars
END:VEVENT
BEGIN:VEVENT
DTSTART;TZID=America/New_York:20230226T083000
DTEND;TZID=America/New_York:20230226T160000
DTSTAMP:20260420T223302
CREATED:20230223T014013Z
LAST-MODIFIED:20230223T202829Z
UID:3720-1677400200-1677427200@rilandtrusts.org
SUMMARY:SEMAP 16th Annual Agriculture & Food Conference
DESCRIPTION:
URL:https://rilandtrusts.org/event/semap-agriculture-food-conference/
LOCATION:Online
CATEGORIES:Conferences
END:VEVENT
BEGIN:VEVENT
DTSTART;TZID=America/New_York:20230223T080000
DTEND;TZID=America/New_York:20230223T170000
DTSTAMP:20260420T223302
CREATED:20230223T205736Z
LAST-MODIFIED:20230425T194253Z
UID:3824-1677139200-1677171600@rilandtrusts.org
SUMMARY:Configuring ArcGIS Field Maps for Invasive Species Management
DESCRIPTION:
URL:https://rilandtrusts.org/event/configuring-arcgis-field-maps-for-invasive-species-management/
CATEGORIES:Webinars
END:VEVENT
END:VCALENDAR