BEGIN:VCALENDAR
VERSION:2.0
PRODID:-//Rhode Island Land Trust Council - ECPv6.15.19//NONSGML v1.0//EN
CALSCALE:GREGORIAN
METHOD:PUBLISH
X-ORIGINAL-URL:https://rilandtrusts.org
X-WR-CALDESC:Events for Rhode Island Land Trust Council
REFRESH-INTERVAL;VALUE=DURATION:PT1H
X-Robots-Tag:noindex
X-PUBLISHED-TTL:PT1H
BEGIN:VTIMEZONE
TZID:America/New_York
BEGIN:DAYLIGHT
TZOFFSETFROM:-0500
TZOFFSETTO:-0400
TZNAME:EDT
DTSTART:20220313T070000
END:DAYLIGHT
BEGIN:STANDARD
TZOFFSETFROM:-0400
TZOFFSETTO:-0500
TZNAME:EST
DTSTART:20221106T060000
END:STANDARD
BEGIN:DAYLIGHT
TZOFFSETFROM:-0500
TZOFFSETTO:-0400
TZNAME:EDT
DTSTART:20230312T070000
END:DAYLIGHT
BEGIN:STANDARD
TZOFFSETFROM:-0400
TZOFFSETTO:-0500
TZNAME:EST
DTSTART:20231105T060000
END:STANDARD
BEGIN:DAYLIGHT
TZOFFSETFROM:-0500
TZOFFSETTO:-0400
TZNAME:EDT
DTSTART:20240310T070000
END:DAYLIGHT
BEGIN:STANDARD
TZOFFSETFROM:-0400
TZOFFSETTO:-0500
TZNAME:EST
DTSTART:20241103T060000
END:STANDARD
BEGIN:DAYLIGHT
TZOFFSETFROM:-0500
TZOFFSETTO:-0400
TZNAME:EDT
DTSTART:20250309T070000
END:DAYLIGHT
BEGIN:STANDARD
TZOFFSETFROM:-0400
TZOFFSETTO:-0500
TZNAME:EST
DTSTART:20251102T060000
END:STANDARD
END:VTIMEZONE
BEGIN:VEVENT
DTSTART;TZID=America/New_York:20240511T090000
DTEND;TZID=America/New_York:20240511T140000
DTSTAMP:20260420T064325
CREATED:20240401T155344Z
LAST-MODIFIED:20240401T155344Z
UID:6111-1715418000-1715436000@rilandtrusts.org
SUMMARY:2024 Spring Native Plant Sale
DESCRIPTION:
URL:https://rilandtrusts.org/event/2024-spring-native-plant-sale/
LOCATION:Casey Farm\, 2325 Boston Neck Road\, Saunderstown\, RI
END:VEVENT
BEGIN:VEVENT
DTSTART;TZID=America/New_York:20240428T140000
DTEND;TZID=America/New_York:20240428T170000
DTSTAMP:20260420T064325
CREATED:20240327T183018Z
LAST-MODIFIED:20240327T183051Z
UID:6091-1714312800-1714323600@rilandtrusts.org
SUMMARY:Gathering on a River with Trout Unlimited
DESCRIPTION:More details to come!
URL:https://rilandtrusts.org/event/gathering-on-a-river-w-trout-unlimited/
LOCATION:Whalers Brewing Company\, 1174 Kingstown Road\, South Kingstown\, RI\, 02879
CATEGORIES:RILTC Events
END:VEVENT
BEGIN:VEVENT
DTSTART;TZID=America/New_York:20240418T120000
DTEND;TZID=America/New_York:20240418T130000
DTSTAMP:20260420T064325
CREATED:20240401T181743Z
LAST-MODIFIED:20240401T183651Z
UID:6117-1713441600-1713445200@rilandtrusts.org
SUMMARY:RIEEA Virtual Lunch & Learn: Advocacy 101
DESCRIPTION:
URL:https://rilandtrusts.org/event/rieea-virtual-lunch-learn-advocacy-101/
LOCATION:Online
CATEGORIES:Webinars
END:VEVENT
BEGIN:VEVENT
DTSTART;TZID=America/New_York:20240417T180000
DTEND;TZID=America/New_York:20240417T193000
DTSTAMP:20260420T064325
CREATED:20240401T153143Z
LAST-MODIFIED:20240401T154014Z
UID:6105-1713376800-1713382200@rilandtrusts.org
SUMMARY:Please DO Eat the Daisies with the RI Wild Plant Society
DESCRIPTION:
URL:https://rilandtrusts.org/event/please-do-eat-the-daisies-with-the-ri-wild-plant-society/
LOCATION:Audubon Society of RI Nature Center\, 1401 Hope Street\, Bristol\, RI\, 02809
CATEGORIES:Workshops & Presentations
END:VEVENT
BEGIN:VEVENT
DTSTART;TZID=America/New_York:20240411T130000
DTEND;TZID=America/New_York:20240411T140000
DTSTAMP:20260420T064325
CREATED:20240205T184651Z
LAST-MODIFIED:20240205T184651Z
UID:5739-1712840400-1712844000@rilandtrusts.org
SUMMARY:Adaptive Trail Mobility Equipment and Programming 101
DESCRIPTION:
URL:https://rilandtrusts.org/event/adaptive-trail-mobility-equipment-and-programming-101/
LOCATION:Online
CATEGORIES:Webinars
END:VEVENT
BEGIN:VEVENT
DTSTART;TZID=America/New_York:20240410T173000
DTEND;TZID=America/New_York:20240410T190000
DTSTAMP:20260420T064325
CREATED:20240401T181559Z
LAST-MODIFIED:20240401T181600Z
UID:6114-1712770200-1712775600@rilandtrusts.org
SUMMARY:Watershed Protectors
DESCRIPTION:
URL:https://rilandtrusts.org/event/watershed-protectors/
LOCATION:Young Building at The Pell Center\, 518 Bellevue Avenue\, Newport\, RI\, 02840
CATEGORIES:Workshops & Presentations
END:VEVENT
BEGIN:VEVENT
DTSTART;TZID=America/New_York:20240323T080000
DTEND;TZID=America/New_York:20240323T170000
DTSTAMP:20260420T064325
CREATED:20240205T185404Z
LAST-MODIFIED:20240205T185404Z
UID:5745-1711180800-1711213200@rilandtrusts.org
SUMMARY:2024 Massachusetts Land Conservation Conference
DESCRIPTION:
URL:https://rilandtrusts.org/event/2024-massachusetts-land-conservation-conference/
LOCATION:UMass Amherst
CATEGORIES:Conferences
END:VEVENT
BEGIN:VEVENT
DTSTART;TZID=America/New_York:20240316T080000
DTEND;TZID=America/New_York:20240316T170000
DTSTAMP:20260420T064325
CREATED:20231219T155048Z
LAST-MODIFIED:20231219T155048Z
UID:5172-1710576000-1710608400@rilandtrusts.org
SUMMARY:RIEEA Annual Summit
DESCRIPTION:
URL:https://rilandtrusts.org/event/rieea-annual-summit-2/
LOCATION:Rhode Island College\, 600 Mt Pleasant Ave\, Providence\, RI
CATEGORIES:Conferences
END:VEVENT
BEGIN:VEVENT
DTSTART;TZID=America/New_York:20240309T083000
DTEND;TZID=America/New_York:20240309T170000
DTSTAMP:20260420T064325
CREATED:20230927T163314Z
LAST-MODIFIED:20240306T145521Z
UID:4833-1709973000-1710003600@rilandtrusts.org
SUMMARY:SOLD OUT: 2024 RI Land & Water Conservation Summit
DESCRIPTION:More info coming soon!
URL:https://rilandtrusts.org/event/2024-ri-land-water-conservation-summit/
LOCATION:University of Rhode Island\, Upper College Road\, Kingston\, RI
CATEGORIES:RILTC Events
END:VEVENT
BEGIN:VEVENT
DTSTART;TZID=America/New_York:20240229T130000
DTEND;TZID=America/New_York:20240229T140000
DTSTAMP:20260420T064325
CREATED:20240205T184824Z
LAST-MODIFIED:20240205T184824Z
UID:5741-1709211600-1709215200@rilandtrusts.org
SUMMARY:Trail Assessment for Accessibility and Sustainability
DESCRIPTION:
URL:https://rilandtrusts.org/event/trail-assessment-for-accessibility-and-sustainability/
LOCATION:Online
CATEGORIES:Webinars
END:VEVENT
BEGIN:VEVENT
DTSTART;TZID=America/New_York:20240225T140000
DTEND;TZID=America/New_York:20240225T160000
DTSTAMP:20260420T064325
CREATED:20231219T154443Z
LAST-MODIFIED:20231219T154443Z
UID:5169-1708869600-1708876800@rilandtrusts.org
SUMMARY:2024 RI Nature Video Festival
DESCRIPTION:
URL:https://rilandtrusts.org/event/2024-ri-nature-video-festival/
LOCATION:Rhode Island College\, 600 Mt Pleasant Ave\, Providence\, RI
CATEGORIES:Conferences
END:VEVENT
BEGIN:VEVENT
DTSTART;TZID=America/New_York:20240222T130000
DTEND;TZID=America/New_York:20240222T150000
DTSTAMP:20260420T064325
CREATED:20240117T183758Z
LAST-MODIFIED:20240117T183831Z
UID:5540-1708606800-1708614000@rilandtrusts.org
SUMMARY:Family Day at Spruce Acres Farm
DESCRIPTION:
URL:https://rilandtrusts.org/event/family-day-at-spruce-acres-farm/
LOCATION:Spruce Acres Farm\, 1286 East Main Road\, Middletown\, RI
CATEGORIES:Walks
END:VEVENT
BEGIN:VEVENT
DTSTART;TZID=America/New_York:20240215T120000
DTEND;TZID=America/New_York:20240215T130000
DTSTAMP:20260420T064325
CREATED:20240205T185215Z
LAST-MODIFIED:20240205T185215Z
UID:5743-1707998400-1708002000@rilandtrusts.org
SUMMARY:RIEEA Virtual Lunch & Learn: Solar Power Hour
DESCRIPTION:
URL:https://rilandtrusts.org/event/rieea-virtual-lunch-learn-solar-power-hour/
LOCATION:Online
CATEGORIES:Webinars
END:VEVENT
BEGIN:VEVENT
DTSTART;TZID=America/New_York:20240207T110000
DTEND;TZID=America/New_York:20240208T170000
DTSTAMP:20260420T064325
CREATED:20240117T183944Z
LAST-MODIFIED:20240117T183944Z
UID:5542-1707303600-1707411600@rilandtrusts.org
SUMMARY:National Native Seed Conference
DESCRIPTION:
URL:https://rilandtrusts.org/event/national-native-seed-conference/
LOCATION:Online
CATEGORIES:Conferences
END:VEVENT
BEGIN:VEVENT
DTSTART;TZID=America/New_York:20240206T140000
DTEND;TZID=America/New_York:20240206T150000
DTSTAMP:20260420T064325
CREATED:20240130T182033Z
LAST-MODIFIED:20240130T182033Z
UID:5728-1707228000-1707231600@rilandtrusts.org
SUMMARY:Hunger Elimination Task Force Quarter 1 Meeting
DESCRIPTION:
URL:https://rilandtrusts.org/event/hunger-elimination-task-force-quarter-1-meeting/
LOCATION:Online
CATEGORIES:Workshops & Presentations
END:VEVENT
BEGIN:VEVENT
DTSTART;TZID=America/New_York:20240204T083000
DTEND;TZID=America/New_York:20240204T160000
DTSTAMP:20260420T064325
CREATED:20240117T184057Z
LAST-MODIFIED:20240117T184057Z
UID:5544-1707035400-1707062400@rilandtrusts.org
SUMMARY:Birds Across New England: Audubon Regional Conservation Symposium
DESCRIPTION:
URL:https://rilandtrusts.org/event/birds-across-new-england-audubon-regional-conservation-symposium-2/
LOCATION:Salve Regina University’s O’Hare Academic Building\, 36 Ochre Point Ave\, Newport\, RI\, 02840
CATEGORIES:Conferences
END:VEVENT
BEGIN:VEVENT
DTSTART;TZID=America/New_York:20240204T083000
DTEND;TZID=America/New_York:20240204T160000
DTSTAMP:20260420T064325
CREATED:20231219T153858Z
LAST-MODIFIED:20231219T153858Z
UID:5163-1707035400-1707062400@rilandtrusts.org
SUMMARY:Birds Across New England: Audubon Regional Conservation Symposium
DESCRIPTION:
URL:https://rilandtrusts.org/event/birds-across-new-england-audubon-regional-conservation-symposium/
LOCATION:Salve Regina University’s O’Hare Academic Building\, 36 Ochre Point Ave\, Newport\, RI\, 02840
CATEGORIES:Conferences
END:VEVENT
BEGIN:VEVENT
DTSTART;TZID=America/New_York:20240201T130000
DTEND;TZID=America/New_York:20240201T140000
DTSTAMP:20260420T064325
CREATED:20240130T181933Z
LAST-MODIFIED:20240130T181933Z
UID:5726-1706792400-1706796000@rilandtrusts.org
SUMMARY:Volunteer Engagement on the Appalachian Trail
DESCRIPTION:
URL:https://rilandtrusts.org/event/volunteer-engagement-on-the-appalachian-trail/
LOCATION:Online
CATEGORIES:Webinars
END:VEVENT
BEGIN:VEVENT
DTSTART;TZID=America/New_York:20240122T120000
DTEND;TZID=America/New_York:20240122T130000
DTSTAMP:20260420T064325
CREATED:20240117T184947Z
LAST-MODIFIED:20240117T184947Z
UID:5546-1705924800-1705928400@rilandtrusts.org
SUMMARY:Tomaquag Museum's Lunch and Learn Series: "Food Sovereignty"
DESCRIPTION:
URL:https://rilandtrusts.org/event/tomaquag-museums-lunch-and-learn-series-food-sovereignty/
LOCATION:Online
CATEGORIES:Webinars
END:VEVENT
BEGIN:VEVENT
DTSTART;TZID=America/New_York:20231208T123000
DTEND;TZID=America/New_York:20231209T160000
DTSTAMP:20260420T064325
CREATED:20231201T183649Z
LAST-MODIFIED:20231201T183649Z
UID:5079-1702038600-1702137600@rilandtrusts.org
SUMMARY:ECRI Anti-Racism Workshop
DESCRIPTION:
URL:https://rilandtrusts.org/event/ecri-anti-racism-workshop/
LOCATION:RI
CATEGORIES:Workshops & Presentations
END:VEVENT
BEGIN:VEVENT
DTSTART;TZID=America/New_York:20231116T180000
DTEND;TZID=America/New_York:20231116T200000
DTSTAMP:20260420T064325
CREATED:20231106T161011Z
LAST-MODIFIED:20231106T161011Z
UID:4997-1700157600-1700164800@rilandtrusts.org
SUMMARY:Forest Conservation Easements Workshop
DESCRIPTION:
URL:https://rilandtrusts.org/event/forest-conservation-easements-workshop/
LOCATION:West Greenwich Community Center\, Route 102 (behind Louttit Library)\, West Greenwich\, RI
CATEGORIES:RILTC Events
END:VEVENT
BEGIN:VEVENT
DTSTART;TZID=America/New_York:20231109T080000
DTEND;TZID=America/New_York:20231109T160000
DTSTAMP:20260420T064325
CREATED:20230921T202937Z
LAST-MODIFIED:20230921T202937Z
UID:4647-1699516800-1699545600@rilandtrusts.org
SUMMARY:2023 RCP Network Gathering
DESCRIPTION:
URL:https://rilandtrusts.org/event/2023-rcp-network-gathering/
LOCATION:UMass Amherst
CATEGORIES:Conferences
END:VEVENT
BEGIN:VEVENT
DTSTART;TZID=America/New_York:20231104T080000
DTEND;TZID=America/New_York:20231104T150000
DTSTAMP:20260420T064325
CREATED:20230921T203239Z
LAST-MODIFIED:20230921T203239Z
UID:4650-1699084800-1699110000@rilandtrusts.org
SUMMARY:RI Coverts Workshop
DESCRIPTION:
URL:https://rilandtrusts.org/event/ri-coverts-workshop/
LOCATION:Canonicus Camp and Conference Center\, 54 Exeter Road\, Exeter\, RI
CATEGORIES:In-person Trainings
END:VEVENT
BEGIN:VEVENT
DTSTART;VALUE=DATE:20231102
DTEND;VALUE=DATE:20231104
DTSTAMP:20260420T064325
CREATED:20230306T143522Z
LAST-MODIFIED:20230306T143522Z
UID:3949-1698883200-1699055999@rilandtrusts.org
SUMMARY:Historic New England Summit
DESCRIPTION:
URL:https://rilandtrusts.org/event/historic-new-england-summit/
LOCATION:The VETS\, 1 Ave of the Arts\, Providence\, RI\, 02903
CATEGORIES:Conferences
END:VEVENT
BEGIN:VEVENT
DTSTART;TZID=America/New_York:20231025T140000
DTEND;TZID=America/New_York:20231025T153000
DTSTAMP:20260420T064325
CREATED:20230921T204242Z
LAST-MODIFIED:20230921T204242Z
UID:4659-1698242400-1698247800@rilandtrusts.org
SUMMARY:Climate Adaptation for Land Trusts
DESCRIPTION:
URL:https://rilandtrusts.org/event/climate-adaptation-for-land-trusts/
LOCATION:Online
CATEGORIES:Webinars
END:VEVENT
BEGIN:VEVENT
DTSTART;TZID=America/New_York:20231020T090000
DTEND;TZID=America/New_York:20231020T170000
DTSTAMP:20260420T064325
CREATED:20231010T153741Z
LAST-MODIFIED:20231010T153741Z
UID:4968-1697792400-1697821200@rilandtrusts.org
SUMMARY:Invasive Plant Management Training
DESCRIPTION:
URL:https://rilandtrusts.org/event/invasive-plant-management-training/
LOCATION:South Kingstown Land Trust Barn\, 17 Matunuck Beach Road\, South Kingstown\, RI
CATEGORIES:In-person Trainings
END:VEVENT
BEGIN:VEVENT
DTSTART;TZID=America/New_York:20231019T180000
DTEND;TZID=America/New_York:20231019T200000
DTSTAMP:20260420T064325
CREATED:20230921T202117Z
LAST-MODIFIED:20230921T202117Z
UID:4644-1697738400-1697745600@rilandtrusts.org
SUMMARY:Leave No Trace 101 Course
DESCRIPTION:
URL:https://rilandtrusts.org/event/leave-no-trace-101-course/
LOCATION:New England Institute of Technology – East Greenwich Campus\, 1 New England Tech Boulevard\, East Greenwich\, RI
CATEGORIES:RILTC Events
END:VEVENT
BEGIN:VEVENT
DTSTART;VALUE=DATE:20231015
DTEND;VALUE=DATE:20231019
DTSTAMP:20260420T064325
CREATED:20230530T141958Z
LAST-MODIFIED:20230530T141958Z
UID:4309-1697328000-1697673599@rilandtrusts.org
SUMMARY:2023 Fall NEARC Conference
DESCRIPTION:
URL:https://rilandtrusts.org/event/2023-fall-nearc-conference/
LOCATION:Omni New Haven at Yale\, 155 Temple St\, New Haven\, CT
CATEGORIES:Conferences
END:VEVENT
BEGIN:VEVENT
DTSTART;TZID=America/New_York:20231011T140000
DTEND;TZID=America/New_York:20231011T153000
DTSTAMP:20260420T064325
CREATED:20230921T204029Z
LAST-MODIFIED:20230921T204029Z
UID:4657-1697032800-1697038200@rilandtrusts.org
SUMMARY:The Community Forest Program for Land Trusts
DESCRIPTION:
URL:https://rilandtrusts.org/event/the-community-forest-program-for-land-trusts/
LOCATION:Online
CATEGORIES:Webinars
END:VEVENT
BEGIN:VEVENT
DTSTART;TZID=America/New_York:20230923T110000
DTEND;TZID=America/New_York:20230923T170000
DTSTAMP:20260420T064325
CREATED:20230921T203910Z
LAST-MODIFIED:20230921T203910Z
UID:4654-1695466800-1695488400@rilandtrusts.org
SUMMARY:Accessibility is Beautiful 2023
DESCRIPTION:
URL:https://rilandtrusts.org/event/accessibility-is-beautiful-2023/
LOCATION:The Steel Yard\, 27 Sims Avenue\, Providence\, RI
END:VEVENT
END:VCALENDAR