BEGIN:VCALENDAR
VERSION:2.0
PRODID:-//Rhode Island Land Trust Council - ECPv6.15.19//NONSGML v1.0//EN
CALSCALE:GREGORIAN
METHOD:PUBLISH
X-ORIGINAL-URL:https://rilandtrusts.org
X-WR-CALDESC:Events for Rhode Island Land Trust Council
REFRESH-INTERVAL;VALUE=DURATION:PT1H
X-Robots-Tag:noindex
X-PUBLISHED-TTL:PT1H
BEGIN:VTIMEZONE
TZID:America/New_York
BEGIN:DAYLIGHT
TZOFFSETFROM:-0500
TZOFFSETTO:-0400
TZNAME:EDT
DTSTART:20220313T070000
END:DAYLIGHT
BEGIN:STANDARD
TZOFFSETFROM:-0400
TZOFFSETTO:-0500
TZNAME:EST
DTSTART:20221106T060000
END:STANDARD
BEGIN:DAYLIGHT
TZOFFSETFROM:-0500
TZOFFSETTO:-0400
TZNAME:EDT
DTSTART:20230312T070000
END:DAYLIGHT
BEGIN:STANDARD
TZOFFSETFROM:-0400
TZOFFSETTO:-0500
TZNAME:EST
DTSTART:20231105T060000
END:STANDARD
BEGIN:DAYLIGHT
TZOFFSETFROM:-0500
TZOFFSETTO:-0400
TZNAME:EDT
DTSTART:20240310T070000
END:DAYLIGHT
BEGIN:STANDARD
TZOFFSETFROM:-0400
TZOFFSETTO:-0500
TZNAME:EST
DTSTART:20241103T060000
END:STANDARD
END:VTIMEZONE
BEGIN:VEVENT
DTSTART;TZID=America/New_York:20231025T140000
DTEND;TZID=America/New_York:20231025T153000
DTSTAMP:20260420T095807
CREATED:20230921T204242Z
LAST-MODIFIED:20230921T204242Z
UID:4659-1698242400-1698247800@rilandtrusts.org
SUMMARY:Climate Adaptation for Land Trusts
DESCRIPTION:
URL:https://rilandtrusts.org/event/climate-adaptation-for-land-trusts/
LOCATION:Online
CATEGORIES:Webinars
END:VEVENT
BEGIN:VEVENT
DTSTART;TZID=America/New_York:20231020T090000
DTEND;TZID=America/New_York:20231020T170000
DTSTAMP:20260420T095807
CREATED:20231010T153741Z
LAST-MODIFIED:20231010T153741Z
UID:4968-1697792400-1697821200@rilandtrusts.org
SUMMARY:Invasive Plant Management Training
DESCRIPTION:
URL:https://rilandtrusts.org/event/invasive-plant-management-training/
LOCATION:South Kingstown Land Trust Barn\, 17 Matunuck Beach Road\, South Kingstown\, RI
CATEGORIES:In-person Trainings
END:VEVENT
BEGIN:VEVENT
DTSTART;TZID=America/New_York:20231019T180000
DTEND;TZID=America/New_York:20231019T200000
DTSTAMP:20260420T095807
CREATED:20230921T202117Z
LAST-MODIFIED:20230921T202117Z
UID:4644-1697738400-1697745600@rilandtrusts.org
SUMMARY:Leave No Trace 101 Course
DESCRIPTION:
URL:https://rilandtrusts.org/event/leave-no-trace-101-course/
LOCATION:New England Institute of Technology – East Greenwich Campus\, 1 New England Tech Boulevard\, East Greenwich\, RI
CATEGORIES:RILTC Events
END:VEVENT
BEGIN:VEVENT
DTSTART;VALUE=DATE:20231015
DTEND;VALUE=DATE:20231019
DTSTAMP:20260420T095807
CREATED:20230530T141958Z
LAST-MODIFIED:20230530T141958Z
UID:4309-1697328000-1697673599@rilandtrusts.org
SUMMARY:2023 Fall NEARC Conference
DESCRIPTION:
URL:https://rilandtrusts.org/event/2023-fall-nearc-conference/
LOCATION:Omni New Haven at Yale\, 155 Temple St\, New Haven\, CT
CATEGORIES:Conferences
END:VEVENT
BEGIN:VEVENT
DTSTART;TZID=America/New_York:20231011T140000
DTEND;TZID=America/New_York:20231011T153000
DTSTAMP:20260420T095807
CREATED:20230921T204029Z
LAST-MODIFIED:20230921T204029Z
UID:4657-1697032800-1697038200@rilandtrusts.org
SUMMARY:The Community Forest Program for Land Trusts
DESCRIPTION:
URL:https://rilandtrusts.org/event/the-community-forest-program-for-land-trusts/
LOCATION:Online
CATEGORIES:Webinars
END:VEVENT
BEGIN:VEVENT
DTSTART;TZID=America/New_York:20230923T110000
DTEND;TZID=America/New_York:20230923T170000
DTSTAMP:20260420T095807
CREATED:20230921T203910Z
LAST-MODIFIED:20230921T203910Z
UID:4654-1695466800-1695488400@rilandtrusts.org
SUMMARY:Accessibility is Beautiful 2023
DESCRIPTION:
URL:https://rilandtrusts.org/event/accessibility-is-beautiful-2023/
LOCATION:The Steel Yard\, 27 Sims Avenue\, Providence\, RI
END:VEVENT
BEGIN:VEVENT
DTSTART;TZID=America/New_York:20230921T170000
DTEND;TZID=America/New_York:20230921T183000
DTSTAMP:20260420T095807
CREATED:20230811T155639Z
LAST-MODIFIED:20230811T155639Z
UID:4451-1695315600-1695321000@rilandtrusts.org
SUMMARY:The Science\, Management\, and Carbon Markets Opportunities for Forest Carbon for RI Land Trusts
DESCRIPTION:Charles Levesque\, Coordinator of Securing Northeast Forest Carbon Program\, presents on the basic science of forest carbon and its relationship to climate change mitigation as well as forest management options for forest carbon and carbon markets. Attendees will have a better understanding of what role their forests play in climate mitigation and how to discuss management and markets with forest landowners. Hosted by the RI Land Trust Council. Register here.
URL:https://rilandtrusts.org/event/the-science-management-and-carbon-markets-opportunities-for-forest-carbon-for-ri-land-trusts/
LOCATION:Online
CATEGORIES:RILTC Events
END:VEVENT
BEGIN:VEVENT
DTSTART;TZID=America/New_York:20230919T190000
DTEND;TZID=America/New_York:20230919T200000
DTSTAMP:20260420T095807
CREATED:20230412T152919Z
LAST-MODIFIED:20230412T152919Z
UID:4153-1695150000-1695153600@rilandtrusts.org
SUMMARY:Land Trust Learning Series: A Conversation with Environment Reporter Alex Kuffner
DESCRIPTION:
URL:https://rilandtrusts.org/event/land-trust-learning-series-a-conversation-with-environment-reporter-alex-kuffner/
LOCATION:Barrington Public Library\, 281 County Road\, Barrington\, RI\, 02806
CATEGORIES:Workshops & Presentations
END:VEVENT
BEGIN:VEVENT
DTSTART;VALUE=DATE:20230906
DTEND;VALUE=DATE:20230910
DTSTAMP:20260420T095807
CREATED:20230522T182557Z
LAST-MODIFIED:20230522T182557Z
UID:4288-1693958400-1694303999@rilandtrusts.org
SUMMARY:Land Trust Alliance Rally 2023
DESCRIPTION:
URL:https://rilandtrusts.org/event/land-trust-alliance-rally-2023/
LOCATION:Oregon Convention Center\, 777 NE Martin Luther King Jr. Blvd.\, Portland\, OR
CATEGORIES:Conferences
END:VEVENT
BEGIN:VEVENT
DTSTART;TZID=America/New_York:20230901T090000
DTEND;TZID=America/New_York:20230901T110000
DTSTAMP:20260420T095807
CREATED:20230828T194650Z
LAST-MODIFIED:20230828T194650Z
UID:4639-1693558800-1693566000@rilandtrusts.org
SUMMARY:2023 Land Trust Days Kickoff with Burrillville Land Trust
DESCRIPTION:This event has been rescheduled from August 25th to September 1st. \nThis year\, we are kicking off Land Trust Days in Burrillville with the Burrillville Land Trust! Come learn about the historic Eagle Peak Schoolhouse that the land trust has conserved. \nHope to see you there! \nRegister here.
URL:https://rilandtrusts.org/event/2023-land-trust-days-kickoff-with-burrillville-land-trust/
LOCATION:Eagle Peak Schoolhouse\, 310 Eagle Peak Road\, Burrillville\, RI
CATEGORIES:RILTC Events
END:VEVENT
BEGIN:VEVENT
DTSTART;VALUE=DATE:20230825
DTEND;VALUE=DATE:20231030
DTSTAMP:20260420T095807
CREATED:20230608T174430Z
LAST-MODIFIED:20230608T174430Z
UID:4359-1692921600-1698623999@rilandtrusts.org
SUMMARY:Land Trust Days 2023
DESCRIPTION:
URL:https://rilandtrusts.org/event/land-trust-days-2023/
LOCATION:Around Rhode Island
CATEGORIES:RILTC Events
END:VEVENT
BEGIN:VEVENT
DTSTART;TZID=America/New_York:20230818T120000
DTEND;TZID=America/New_York:20230818T130000
DTSTAMP:20260420T095807
CREATED:20230711T210453Z
LAST-MODIFIED:20230711T210524Z
UID:4426-1692360000-1692363600@rilandtrusts.org
SUMMARY:Race and Place: A Panel Discussion
DESCRIPTION:
URL:https://rilandtrusts.org/event/race-and-place-a-panel-discussion/
LOCATION:Online
CATEGORIES:Webinars
END:VEVENT
BEGIN:VEVENT
DTSTART;TZID=America/New_York:20230817T130000
DTEND;TZID=America/New_York:20230817T143000
DTSTAMP:20260420T095807
CREATED:20230711T210648Z
LAST-MODIFIED:20230711T210648Z
UID:4428-1692277200-1692282600@rilandtrusts.org
SUMMARY:Creative Trails Programming Through Public-Private Partnerships
DESCRIPTION:
URL:https://rilandtrusts.org/event/creative-trails-programming-through-public-private-partnerships/
LOCATION:Online
CATEGORIES:Webinars
END:VEVENT
BEGIN:VEVENT
DTSTART;TZID=America/New_York:20230817T130000
DTEND;TZID=America/New_York:20230817T140000
DTSTAMP:20260420T095807
CREATED:20230711T210812Z
LAST-MODIFIED:20230711T210812Z
UID:4430-1692277200-1692280800@rilandtrusts.org
SUMMARY:Conservation Planning in Municipalities: Case Studies of Urban Wetlands & Waterways
DESCRIPTION:
URL:https://rilandtrusts.org/event/conservation-planning-in-municipalities-case-studies-of-urban-wetlands-waterways/
LOCATION:Online
CATEGORIES:Webinars
END:VEVENT
BEGIN:VEVENT
DTSTART;TZID=America/New_York:20230816T173000
DTEND;TZID=America/New_York:20230816T190000
DTSTAMP:20260420T095807
CREATED:20230711T205314Z
LAST-MODIFIED:20230711T205314Z
UID:4424-1692207000-1692212400@rilandtrusts.org
SUMMARY:Golden Hour Geology Hike with Norman Bird Sanctuary
DESCRIPTION:
URL:https://rilandtrusts.org/event/golden-hour-geology-hike-with-norman-bird-sanctuary-8-16-2023/
LOCATION:Norman Bird Sanctuary\, 583 Third Beach Road\, Middletown\, RI
CATEGORIES:Walks
END:VEVENT
BEGIN:VEVENT
DTSTART;TZID=America/New_York:20230801T193000
DTEND;TZID=America/New_York:20230801T223000
DTSTAMP:20260420T095807
CREATED:20230707T214248Z
LAST-MODIFIED:20230707T214248Z
UID:4411-1690918200-1690929000@rilandtrusts.org
SUMMARY:Moonlight Cruise on Narragansett Bay with Warren Land Conservation Trust
DESCRIPTION:
URL:https://rilandtrusts.org/event/moonlight-cruise-on-narragansett-bay-with-warren-land-conservation-trust/
LOCATION:Prudence Ferry\, 147 Thames Street\, Bristol\, RI
END:VEVENT
BEGIN:VEVENT
DTSTART;TZID=America/New_York:20230730T093000
DTEND;TZID=America/New_York:20230730T103000
DTSTAMP:20260420T095807
CREATED:20230711T204558Z
LAST-MODIFIED:20230711T204627Z
UID:4414-1690709400-1690713000@rilandtrusts.org
SUMMARY:Wildflower Walk with Norman Bird Sanctuary
DESCRIPTION:
URL:https://rilandtrusts.org/event/wildflower-walk-with-norman-bird-sanctuary-7-30-2023/
LOCATION:Norman Bird Sanctuary\, 583 Third Beach Road\, Middletown\, RI
CATEGORIES:Walks
END:VEVENT
BEGIN:VEVENT
DTSTART;VALUE=DATE:20230728
DTEND;VALUE=DATE:20230730
DTSTAMP:20260420T095807
CREATED:20230530T141207Z
LAST-MODIFIED:20230530T141207Z
UID:4306-1690502400-1690675199@rilandtrusts.org
SUMMARY:2023 NOFA Summer Conference: In-person
DESCRIPTION:
URL:https://rilandtrusts.org/event/2023-nofa-summer-conference-in-person/
LOCATION:Worcester State University\, 486 Chandler St\, Worcester\, MA
CATEGORIES:Conferences
END:VEVENT
BEGIN:VEVENT
DTSTART;TZID=America/New_York:20230727T130000
DTEND;TZID=America/New_York:20230727T143000
DTSTAMP:20260420T095807
CREATED:20230711T210910Z
LAST-MODIFIED:20230711T210910Z
UID:4432-1690462800-1690468200@rilandtrusts.org
SUMMARY:Outdoors for All
DESCRIPTION:
URL:https://rilandtrusts.org/event/outdoors-for-all/
LOCATION:Online
CATEGORIES:Webinars
END:VEVENT
BEGIN:VEVENT
DTSTART;VALUE=DATE:20230724
DTEND;VALUE=DATE:20230728
DTSTAMP:20260420T095807
CREATED:20230530T141020Z
LAST-MODIFIED:20230530T141020Z
UID:4304-1690156800-1690502399@rilandtrusts.org
SUMMARY:2023 NOFA Summer Conference: Online
DESCRIPTION:
URL:https://rilandtrusts.org/event/2023-nofa-summer-conference-online/
LOCATION:Online
CATEGORIES:Conferences
END:VEVENT
BEGIN:VEVENT
DTSTART;TZID=America/New_York:20230720T173000
DTEND;TZID=America/New_York:20230720T193000
DTSTAMP:20260420T095807
CREATED:20230607T221543Z
LAST-MODIFIED:20230607T221556Z
UID:4344-1689874200-1689881400@rilandtrusts.org
SUMMARY:Climate-Smart Forestry at the Hillsdale Preserve
DESCRIPTION:
URL:https://rilandtrusts.org/event/climate-smart-forestry-at-the-hillsdale-preserve/
LOCATION:Hillsdale Preserve\, Richmond\, RI
CATEGORIES:RILTC Events
END:VEVENT
BEGIN:VEVENT
DTSTART;TZID=America/New_York:20230713T193000
DTEND;TZID=America/New_York:20230713T210000
DTSTAMP:20260420T095807
CREATED:20230605T154917Z
LAST-MODIFIED:20230605T154917Z
UID:4335-1689276600-1689282000@rilandtrusts.org
SUMMARY:Carolina Summer Bat Night with RIDEM Fish & Wildlife
DESCRIPTION:
URL:https://rilandtrusts.org/event/carolina-summer-bat-night-with-ridem-fish-wildlife/
LOCATION:Carolina Trout Hatchery\, 13 Old Richmond Townhouse Road\, Richmond\, RI
CATEGORIES:Workshops & Presentations
END:VEVENT
BEGIN:VEVENT
DTSTART;TZID=America/New_York:20230712T173000
DTEND;TZID=America/New_York:20230712T190000
DTSTAMP:20260420T095807
CREATED:20230711T205151Z
LAST-MODIFIED:20230711T205151Z
UID:4422-1689183000-1689188400@rilandtrusts.org
SUMMARY:Golden Hour Geology Hike with Norman Bird Sanctuary
DESCRIPTION:
URL:https://rilandtrusts.org/event/golden-hour-geology-hike-with-norman-bird-sanctuary-7-12-2023/
LOCATION:Norman Bird Sanctuary\, 583 Third Beach Road\, Middletown\, RI
CATEGORIES:Walks
END:VEVENT
BEGIN:VEVENT
DTSTART;TZID=America/New_York:20230708T090000
DTEND;TZID=America/New_York:20230708T100000
DTSTAMP:20260420T095807
CREATED:20230607T222644Z
LAST-MODIFIED:20230607T222644Z
UID:4356-1688806800-1688810400@rilandtrusts.org
SUMMARY:Guided Walk with BCLT: St. Andrews Farm
DESCRIPTION:
URL:https://rilandtrusts.org/event/guided-walk-with-bclt-st-andrews-farm/
LOCATION:St. Andrews Farm\, 101 Middle Highway\, Barrington\, RI
CATEGORIES:Walks
END:VEVENT
BEGIN:VEVENT
DTSTART;TZID=America/New_York:20230629T130000
DTEND;TZID=America/New_York:20230629T140000
DTSTAMP:20260420T095807
CREATED:20230620T205803Z
LAST-MODIFIED:20230620T205803Z
UID:4388-1688043600-1688047200@rilandtrusts.org
SUMMARY:Helping Wheelchair Hikers Find Hiking Trails
DESCRIPTION:
URL:https://rilandtrusts.org/event/helping-wheelchair-hikers-find-hiking-trails-2/
LOCATION:Online
CATEGORIES:Webinars
END:VEVENT
BEGIN:VEVENT
DTSTART;TZID=America/New_York:20230627T090000
DTEND;TZID=America/New_York:20230627T120000
DTSTAMP:20260420T095807
CREATED:20230602T203734Z
LAST-MODIFIED:20230602T203734Z
UID:4319-1687856400-1687867200@rilandtrusts.org
SUMMARY:Environmental Justice – What is it and Why Should I Care
DESCRIPTION:
URL:https://rilandtrusts.org/event/environmental-justice-what-is-it-and-why-should-i-care/
LOCATION:Online
CATEGORIES:Webinars
END:VEVENT
BEGIN:VEVENT
DTSTART;TZID=America/New_York:20230626T160000
DTEND;TZID=America/New_York:20230626T180000
DTSTAMP:20260420T095807
CREATED:20230530T140354Z
LAST-MODIFIED:20230530T140354Z
UID:4302-1687795200-1687802400@rilandtrusts.org
SUMMARY:Rhode Island Chattel Slavery and Land with Marco McWilliams
DESCRIPTION:
URL:https://rilandtrusts.org/event/rhode-island-chattel-slavery-and-land-with-marco-mcwilliams/
LOCATION:Online
CATEGORIES:Webinars
END:VEVENT
BEGIN:VEVENT
DTSTART;TZID=America/New_York:20230625T080000
DTEND;TZID=America/New_York:20230625T090000
DTSTAMP:20260420T095807
CREATED:20230607T222501Z
LAST-MODIFIED:20230607T222501Z
UID:4353-1687680000-1687683600@rilandtrusts.org
SUMMARY:Guided Walk with BCLT: Johannis Farm Wildlife Preserve
DESCRIPTION:
URL:https://rilandtrusts.org/event/guided-walk-with-bclt-johannis-farm-wildlife-preserve/
LOCATION:Johannis Farm Wildlife Preserve\, Barrington\, RI
CATEGORIES:Walks
END:VEVENT
BEGIN:VEVENT
DTSTART;TZID=America/New_York:20230624T090000
DTEND;TZID=America/New_York:20230624T100000
DTSTAMP:20260420T095808
CREATED:20230607T222237Z
LAST-MODIFIED:20230607T222237Z
UID:4350-1687597200-1687600800@rilandtrusts.org
SUMMARY:Guided Walk with BCLT: PIC-WIL Nature Preserve
DESCRIPTION:
URL:https://rilandtrusts.org/event/guided-walk-with-bclt-pic-wil-nature-preserve/
LOCATION:PIC-WIL Nature Preserve\, Washington Rd.\, Barrington\, RI
CATEGORIES:Walks
END:VEVENT
BEGIN:VEVENT
DTSTART;TZID=America/New_York:20230622T170000
DTEND;TZID=America/New_York:20230622T183000
DTSTAMP:20260420T095808
CREATED:20230605T154627Z
LAST-MODIFIED:20230605T154627Z
UID:4332-1687453200-1687458600@rilandtrusts.org
SUMMARY:Botany Walk & Talk with Aquidneck Land Trust
DESCRIPTION:
URL:https://rilandtrusts.org/event/botany-walk-talk-with-aquidneck-land-trust/
LOCATION:Spruce Acres Farm\, 1286 East Main Road\, Middletown\, RI
CATEGORIES:Walks
END:VEVENT
END:VCALENDAR