BEGIN:VCALENDAR
VERSION:2.0
PRODID:-//Rhode Island Land Trust Council - ECPv6.15.19//NONSGML v1.0//EN
CALSCALE:GREGORIAN
METHOD:PUBLISH
X-WR-CALNAME:Rhode Island Land Trust Council
X-ORIGINAL-URL:https://rilandtrusts.org
X-WR-CALDESC:Events for Rhode Island Land Trust Council
REFRESH-INTERVAL;VALUE=DURATION:PT1H
X-Robots-Tag:noindex
X-PUBLISHED-TTL:PT1H
BEGIN:VTIMEZONE
TZID:America/New_York
BEGIN:DAYLIGHT
TZOFFSETFROM:-0500
TZOFFSETTO:-0400
TZNAME:EDT
DTSTART:20220313T070000
END:DAYLIGHT
BEGIN:STANDARD
TZOFFSETFROM:-0400
TZOFFSETTO:-0500
TZNAME:EST
DTSTART:20221106T060000
END:STANDARD
BEGIN:DAYLIGHT
TZOFFSETFROM:-0500
TZOFFSETTO:-0400
TZNAME:EDT
DTSTART:20230312T070000
END:DAYLIGHT
BEGIN:STANDARD
TZOFFSETFROM:-0400
TZOFFSETTO:-0500
TZNAME:EST
DTSTART:20231105T060000
END:STANDARD
BEGIN:DAYLIGHT
TZOFFSETFROM:-0500
TZOFFSETTO:-0400
TZNAME:EDT
DTSTART:20240310T070000
END:DAYLIGHT
BEGIN:STANDARD
TZOFFSETFROM:-0400
TZOFFSETTO:-0500
TZNAME:EST
DTSTART:20241103T060000
END:STANDARD
END:VTIMEZONE
BEGIN:VEVENT
DTSTART;TZID=America/New_York:20230610T120000
DTEND;TZID=America/New_York:20230610T160000
DTSTAMP:20260420T144409
CREATED:20230424T152957Z
LAST-MODIFIED:20230424T152957Z
UID:4210-1686398400-1686412800@rilandtrusts.org
SUMMARY:Strawberry Thanksgiving with the Tomaquag Museum
DESCRIPTION:
URL:https://rilandtrusts.org/event/strawberry-thanksgiving-with-the-tomaquag-museum/
LOCATION:University of Rhode Island\, Upper College Road\, Kingston\, RI
CATEGORIES:Workshops & Presentations
END:VEVENT
BEGIN:VEVENT
DTSTART;TZID=America/New_York:20230609T140000
DTEND;TZID=America/New_York:20230610T140000
DTSTAMP:20260420T144409
CREATED:20230530T151529Z
LAST-MODIFIED:20230530T151529Z
UID:4312-1686319200-1686405600@rilandtrusts.org
SUMMARY:BioBlitz 2023: auke ut Nahiganseck
DESCRIPTION:
URL:https://rilandtrusts.org/event/bioblitz-2023-auke-ut-nahiganseck/
LOCATION:Narragansett Indian Tribal Grounds\, Charlestown\, RI
CATEGORIES:Volunteer Events
END:VEVENT
BEGIN:VEVENT
DTSTART;TZID=America/New_York:20230608T173000
DTEND;TZID=America/New_York:20230608T193000
DTSTAMP:20260420T144409
CREATED:20230424T152132Z
LAST-MODIFIED:20230424T152132Z
UID:4201-1686245400-1686252600@rilandtrusts.org
SUMMARY:Aquidneck Island Smart Growth Workshop on Conservation
DESCRIPTION:
URL:https://rilandtrusts.org/event/aquidneck-island-smart-growth-workshop-on-conservation/
LOCATION:Common Fence Point Community Center\, 933 Anthony Rd\, Portsmouth\, RI\, 02871
CATEGORIES:Workshops & Presentations
END:VEVENT
BEGIN:VEVENT
DTSTART;TZID=America/New_York:20230608T170000
DTEND;TZID=America/New_York:20230608T183000
DTSTAMP:20260420T144409
CREATED:20230307T212150Z
LAST-MODIFIED:20230307T212150Z
UID:4032-1686243600-1686249000@rilandtrusts.org
SUMMARY:Board Fundraising for an All-Volunteer Organization
DESCRIPTION:
URL:https://rilandtrusts.org/event/board-fundraising-for-an-all-volunteer-organization/
LOCATION:Online
CATEGORIES:Webinars
END:VEVENT
BEGIN:VEVENT
DTSTART;VALUE=DATE:20230608
DTEND;VALUE=DATE:20230610
DTSTAMP:20260420T144409
CREATED:20230522T182302Z
LAST-MODIFIED:20230522T182302Z
UID:4286-1686182400-1686355199@rilandtrusts.org
SUMMARY:9th Symposium on Advanced Legal Topics in Land Conservation
DESCRIPTION:
URL:https://rilandtrusts.org/event/9th-symposium-on-advanced-legal-topics-in-land-conservation/
LOCATION:Online
CATEGORIES:Webinars
END:VEVENT
BEGIN:VEVENT
DTSTART;TZID=America/New_York:20230607T190000
DTEND;TZID=America/New_York:20230607T200000
DTSTAMP:20260420T144409
CREATED:20230412T153209Z
LAST-MODIFIED:20230412T153209Z
UID:4157-1686164400-1686168000@rilandtrusts.org
SUMMARY:Land Trust Learning Series: An Indigenous Perspective on Indigenous Plants
DESCRIPTION:
URL:https://rilandtrusts.org/event/land-trust-learning-series-an-indigenous-perspective-on-indigenous-plants/
LOCATION:Barrington Public Library\, 281 County Road\, Barrington\, RI\, 02806
CATEGORIES:Workshops & Presentations
END:VEVENT
BEGIN:VEVENT
DTSTART;TZID=America/New_York:20230603T100000
DTEND;TZID=America/New_York:20230603T120000
DTSTAMP:20260420T144409
CREATED:20230530T140002Z
LAST-MODIFIED:20230530T140002Z
UID:4298-1685786400-1685793600@rilandtrusts.org
SUMMARY:Tree Identification on Canonchet Farm Trail
DESCRIPTION:
URL:https://rilandtrusts.org/event/tree-identification-on-canonchet-farm-trail/
LOCATION:South County Museum\, 115 Strathmore Street\, Narragansett\, RI\, 02882
CATEGORIES:Walks
END:VEVENT
BEGIN:VEVENT
DTSTART;TZID=America/New_York:20230601T130000
DTEND;TZID=America/New_York:20230601T140000
DTSTAMP:20260420T144409
CREATED:20230530T140135Z
LAST-MODIFIED:20230530T140135Z
UID:4300-1685624400-1685628000@rilandtrusts.org
SUMMARY:Revamping America’s Energy Landscape: Balancing Sustainability and Land Use Impact with Dr. Grace Wu
DESCRIPTION:
URL:https://rilandtrusts.org/event/revamping-americas-energy-landscape-balancing-sustainability-and-land-use-impact-with-dr-grace-wu/
LOCATION:Online
CATEGORIES:Webinars
END:VEVENT
BEGIN:VEVENT
DTSTART;TZID=America/New_York:20230531T100000
DTEND;TZID=America/New_York:20230531T113000
DTSTAMP:20260420T144409
CREATED:20230522T181959Z
LAST-MODIFIED:20230522T182048Z
UID:4284-1685527200-1685532600@rilandtrusts.org
SUMMARY:Wildlands in New England: Release Briefing
DESCRIPTION:
URL:https://rilandtrusts.org/event/wildlands-in-new-england-release-briefing/
LOCATION:Online
CATEGORIES:Webinars
END:VEVENT
BEGIN:VEVENT
DTSTART;TZID=America/New_York:20230527T130000
DTEND;TZID=America/New_York:20230527T150000
DTSTAMP:20260420T144409
CREATED:20230425T201018Z
LAST-MODIFIED:20230425T201018Z
UID:4231-1685192400-1685199600@rilandtrusts.org
SUMMARY:Photography Walk with Burrillville Land Trust
DESCRIPTION:
URL:https://rilandtrusts.org/event/photography-walk-with-burrillville-land-trust/
LOCATION:Clear River\, 1290 Wallum Lake Road\, Burrillville\, RI\, 02859
CATEGORIES:Walks
END:VEVENT
BEGIN:VEVENT
DTSTART;TZID=America/New_York:20230527T100000
DTEND;TZID=America/New_York:20230527T130000
DTSTAMP:20260420T144409
CREATED:20230522T160123Z
LAST-MODIFIED:20230522T160123Z
UID:4274-1685181600-1685192400@rilandtrusts.org
SUMMARY:Trail Work at Haile Farm Preserve
DESCRIPTION:On Saturday May 27th\, the Warren Land Conservation Trust will be at Haile Farm Preserve to build & install some boardwalks\, create wildlife structures\, and remove some old tires. Bring your battery operated drill. Meet at the end of New Industrial Way at 10:00 am\, and we’ll work for 1-3 hours.
URL:https://rilandtrusts.org/event/trail-work-at-haile-farm-preserve/
LOCATION:Haile Farm Preserve\, New Industrial Way\, Warren\, RI\, 02885
CATEGORIES:Volunteer Events
END:VEVENT
BEGIN:VEVENT
DTSTART;TZID=America/New_York:20230525T080000
DTEND;TZID=America/New_York:20230525T163000
DTSTAMP:20260420T144409
CREATED:20230224T011919Z
LAST-MODIFIED:20230223T202719Z
UID:3815-1685001600-1685032200@rilandtrusts.org
SUMMARY:Rhode Island Flood Mitigation Association Conference
DESCRIPTION:
URL:https://rilandtrusts.org/event/rhode-island-flood-mitigation-association-conference/
LOCATION:URI Center for Biotechnology & Life Sciences\, 120 Flagg Road\, Kingston\, RI\, 02881
CATEGORIES:Conferences
END:VEVENT
BEGIN:VEVENT
DTSTART;TZID=America/New_York:20230524T180000
DTEND;TZID=America/New_York:20230524T190000
DTSTAMP:20260420T144409
CREATED:20230522T181200Z
LAST-MODIFIED:20230522T181200Z
UID:4280-1684951200-1684954800@rilandtrusts.org
SUMMARY:Climate Change Solutions in Rhode Island and Beyond
DESCRIPTION:
URL:https://rilandtrusts.org/event/climate-change-solutions-in-rhode-island-and-beyond/
LOCATION:Online
CATEGORIES:Webinars
END:VEVENT
BEGIN:VEVENT
DTSTART;TZID=America/New_York:20230523T130000
DTEND;TZID=America/New_York:20230523T140000
DTSTAMP:20260420T144409
CREATED:20230224T011702Z
LAST-MODIFIED:20230227T231401Z
UID:3811-1684846800-1684850400@rilandtrusts.org
SUMMARY:The Barrington Pollinator Pathway
DESCRIPTION:
URL:https://rilandtrusts.org/event/the-barrington-pollinator-pathway/
LOCATION:Barrington Public Library\, 281 County Road\, Barrington\, RI\, 02806
CATEGORIES:Workshops & Presentations
END:VEVENT
BEGIN:VEVENT
DTSTART;TZID=America/New_York:20230520T140000
DTEND;TZID=America/New_York:20230520T150000
DTSTAMP:20260420T144409
CREATED:20230424T152728Z
LAST-MODIFIED:20230424T152728Z
UID:4207-1684591200-1684594800@rilandtrusts.org
SUMMARY:Planting Moon with the Tomaquag Museum
DESCRIPTION:
URL:https://rilandtrusts.org/event/planting-moon-with-the-tomaquag-museum/
LOCATION:Ashawaug Farm\, 120 Main St.\, Ashaway\, RI
CATEGORIES:Workshops & Presentations
END:VEVENT
BEGIN:VEVENT
DTSTART;TZID=America/New_York:20230518T130000
DTEND;TZID=America/New_York:20230518T140000
DTSTAMP:20260420T144409
CREATED:20230501T152333Z
LAST-MODIFIED:20230501T152333Z
UID:4250-1684414800-1684418400@rilandtrusts.org
SUMMARY:Informing the Trail Experience: The Process of Signing a Trail with American Trails
DESCRIPTION:
URL:https://rilandtrusts.org/event/informing-the-trail-experience-the-process-of-signing-a-trail-with-american-trails/
LOCATION:Online
CATEGORIES:Webinars
END:VEVENT
BEGIN:VEVENT
DTSTART;TZID=America/New_York:20230516T170000
DTEND;TZID=America/New_York:20230516T200000
DTSTAMP:20260420T144409
CREATED:20230424T152409Z
LAST-MODIFIED:20230425T200546Z
UID:4204-1684256400-1684267200@rilandtrusts.org
SUMMARY:Bird Identification Walk & Talk with ALT
DESCRIPTION:
URL:https://rilandtrusts.org/event/bird-identification-walk-talk-with-alt/
LOCATION:Little Creek Preserve\, Bramans Lane\, Portsmouth\, RI\, 02871
CATEGORIES:Walks
END:VEVENT
BEGIN:VEVENT
DTSTART;TZID=America/New_York:20230513T100000
DTEND;TZID=America/New_York:20230513T113000
DTSTAMP:20260420T144409
CREATED:20230501T152522Z
LAST-MODIFIED:20230501T152522Z
UID:4252-1683972000-1683977400@rilandtrusts.org
SUMMARY:All Politics Are Local: Understanding Local Government in Rhode Island
DESCRIPTION:
URL:https://rilandtrusts.org/event/all-politics-are-local-understanding-local-government-in-rhode-island/
LOCATION:Cranston Central Public Library\, 140 Sockanosset Cross Road\, Cranston\, RI
CATEGORIES:Workshops & Presentations
END:VEVENT
BEGIN:VEVENT
DTSTART;TZID=America/New_York:20230512T093000
DTEND;TZID=America/New_York:20230512T113000
DTSTAMP:20260420T144409
CREATED:20230424T201311Z
LAST-MODIFIED:20230424T201311Z
UID:4218-1683883800-1683891000@rilandtrusts.org
SUMMARY:Clean Water Action's 21st Annual Breakfast of Champions
DESCRIPTION:
URL:https://rilandtrusts.org/event/clean-water-actions-21st-annual-breakfast-of-champions/
LOCATION:Aspray Boat House\, 2 East View Street\, Warwick\, RI\, 02888
CATEGORIES:Conferences
END:VEVENT
BEGIN:VEVENT
DTSTART;TZID=America/New_York:20230511T173000
DTEND;TZID=America/New_York:20230511T193000
DTSTAMP:20260420T144409
CREATED:20230424T151836Z
LAST-MODIFIED:20230424T151836Z
UID:4198-1683826200-1683833400@rilandtrusts.org
SUMMARY:Aquidneck Island Smart Growth Workshop on Housing Development
DESCRIPTION:
URL:https://rilandtrusts.org/event/aquidneck-island-smart-growth-workshop-on-housing-development/
LOCATION:Innovate Newport\, 513 Broadway\, Newport\, RI\, 02840
CATEGORIES:Workshops & Presentations
END:VEVENT
BEGIN:VEVENT
DTSTART;TZID=America/New_York:20230511T090000
DTEND;TZID=America/New_York:20230511T100000
DTSTAMP:20260420T144409
CREATED:20230307T212308Z
LAST-MODIFIED:20230307T212308Z
UID:4034-1683795600-1683799200@rilandtrusts.org
SUMMARY:Board Chair Peer Learning - Holding Engaging Board Meetings
DESCRIPTION:
URL:https://rilandtrusts.org/event/board-chair-peer-learning-holding-engaging-board-meetings/
LOCATION:Online
CATEGORIES:Webinars
END:VEVENT
BEGIN:VEVENT
DTSTART;TZID=America/New_York:20230506T100000
DTEND;TZID=America/New_York:20230506T120000
DTSTAMP:20260420T144409
CREATED:20230424T201758Z
LAST-MODIFIED:20230425T200633Z
UID:4221-1683367200-1683374400@rilandtrusts.org
SUMMARY:Walking Rhode Island: A Guide to Hiking in the Ocean State
DESCRIPTION:
URL:https://rilandtrusts.org/event/walking-rhode-island-a-guide-to-hiking-in-the-ocean-state/
LOCATION:South County Museum\, 115 Strathmore Street\, Narragansett\, RI\, 02882
CATEGORIES:Walks
END:VEVENT
BEGIN:VEVENT
DTSTART;TZID=America/New_York:20230504T173000
DTEND;TZID=America/New_York:20230504T193000
DTSTAMP:20260420T144409
CREATED:20230424T151611Z
LAST-MODIFIED:20230424T151611Z
UID:4195-1683221400-1683228600@rilandtrusts.org
SUMMARY:Aquidneck Island Smart Growth Workshop on Transportation
DESCRIPTION:
URL:https://rilandtrusts.org/event/aquidneck-island-smart-growth-workshop-on-transportation/
LOCATION:Middletown Town Hall\, 350 East Main Road\, Middletown\, RI\, 02842
CATEGORIES:Workshops & Presentations
END:VEVENT
BEGIN:VEVENT
DTSTART;TZID=America/New_York:20230503T150000
DTEND;TZID=America/New_York:20230503T170000
DTSTAMP:20260420T144409
CREATED:20230424T163636Z
LAST-MODIFIED:20230424T163636Z
UID:4213-1683126000-1683133200@rilandtrusts.org
SUMMARY:Integrating Environmental Justice into Water Resource Management Webcast
DESCRIPTION:
URL:https://rilandtrusts.org/event/integrating-environmental-justice-into-water-resource-management-webcast/
LOCATION:Online
CATEGORIES:Webinars
END:VEVENT
BEGIN:VEVENT
DTSTART;TZID=America/New_York:20230503T130000
DTEND;TZID=America/New_York:20230503T143000
DTSTAMP:20260420T144409
CREATED:20230424T151202Z
LAST-MODIFIED:20230424T151202Z
UID:4192-1683118800-1683124200@rilandtrusts.org
SUMMARY:Introduction to Measuring Your Impact with Candid.
DESCRIPTION:
URL:https://rilandtrusts.org/event/introduction-to-measuring-your-impact/
LOCATION:Online
CATEGORIES:Webinars
END:VEVENT
BEGIN:VEVENT
DTSTART;TZID=America/New_York:20230429T143000
DTEND;TZID=America/New_York:20230429T153000
DTSTAMP:20260420T144409
CREATED:20230413T195350Z
LAST-MODIFIED:20230413T195350Z
UID:4164-1682778600-1682782200@rilandtrusts.org
SUMMARY:Fishing Moon Panel at the Tomaquag Museum
DESCRIPTION:
URL:https://rilandtrusts.org/event/fishing-moon-panel-at-the-tomaquag-museum/
LOCATION:Tomaquag Museum\, 390 A Summit Road\, Exeter\, RI\, 02822
CATEGORIES:Workshops & Presentations
END:VEVENT
BEGIN:VEVENT
DTSTART;TZID=America/New_York:20230429T120000
DTEND;TZID=America/New_York:20230429T140000
DTSTAMP:20260420T144409
CREATED:20230425T201628Z
LAST-MODIFIED:20230425T201628Z
UID:4237-1682769600-1682776800@rilandtrusts.org
SUMMARY:Bumblebee ID Walk
DESCRIPTION:
URL:https://rilandtrusts.org/event/bumblebee-id-walk/
LOCATION:Westerly Land Trust
CATEGORIES:Walks
END:VEVENT
BEGIN:VEVENT
DTSTART;TZID=America/New_York:20230429T080000
DTEND;TZID=America/New_York:20230429T120000
DTSTAMP:20260420T144409
CREATED:20230424T185734Z
LAST-MODIFIED:20230424T185734Z
UID:4215-1682755200-1682769600@rilandtrusts.org
SUMMARY:Volunteer Day with Smithfield Land Trust
DESCRIPTION:
URL:https://rilandtrusts.org/event/volunteer-day-with-smithfield-land-trust/
LOCATION:Wolf Hill Forest Preserve\, 5 Waterview Drive\, Smithfield\, RI\, 02917
CATEGORIES:Volunteer Events
END:VEVENT
BEGIN:VEVENT
DTSTART;TZID=America/New_York:20230428T120000
DTEND;TZID=America/New_York:20230428T130000
DTSTAMP:20260420T144409
CREATED:20230413T200418Z
LAST-MODIFIED:20230413T200418Z
UID:4168-1682683200-1682686800@rilandtrusts.org
SUMMARY:Amplifying Diverse Perspectives
DESCRIPTION:
URL:https://rilandtrusts.org/event/amplifying-diverse-perspectives/
LOCATION:Online
CATEGORIES:Webinars
END:VEVENT
BEGIN:VEVENT
DTSTART;TZID=America/New_York:20230427T130000
DTEND;TZID=America/New_York:20230427T140000
DTSTAMP:20260420T144409
CREATED:20230424T150514Z
LAST-MODIFIED:20230424T150514Z
UID:4190-1682600400-1682604000@rilandtrusts.org
SUMMARY:Community Leaders of Color on Supporting Environmental Justice Organizations
DESCRIPTION:
URL:https://rilandtrusts.org/event/community-leaders-of-color-on-supporting-environmental-justice-organizations/
LOCATION:Online
CATEGORIES:Webinars
END:VEVENT
END:VCALENDAR